BEGIN:VCALENDAR
VERSION:2.0
PRODID:-//Otaku Visual Mex - ECPv6.15.20//NONSGML v1.0//EN
CALSCALE:GREGORIAN
METHOD:PUBLISH
X-WR-CALNAME:Otaku Visual Mex
X-ORIGINAL-URL:https://otakuvisualmex.com
X-WR-CALDESC:Eventos para Otaku Visual Mex
REFRESH-INTERVAL;VALUE=DURATION:PT1H
X-Robots-Tag:noindex
X-PUBLISHED-TTL:PT1H
BEGIN:VTIMEZONE
TZID:America/Mexico_City
BEGIN:STANDARD
TZOFFSETFROM:-0600
TZOFFSETTO:-0600
TZNAME:CST
DTSTART:20240101T000000
END:STANDARD
END:VTIMEZONE
BEGIN:VEVENT
DTSTART;TZID=America/Mexico_City:20250808T200000
DTEND;TZID=America/Mexico_City:20250808T220000
DTSTAMP:20260421T080838
CREATED:20250313T012836Z
LAST-MODIFIED:20250313T012836Z
UID:15701-1754683200-1754690400@otakuvisualmex.com
SUMMARY:ADO: WORLD TOUR 2025 HIBANA
DESCRIPTION:La superestrella japonesa ADO está de vuelta para su segunda gira mundial\, «Hibana»\, impulsada por Crunchyroll\, llegando a las principales Arenas de todo el mundo. \nCrunchyroll\, la marca global de anime\, ha anunciado hoy que la icónica vocalista japonesa ADO se embarcará en su segunda gira mundial\, ADO WORLD TOUR 2025 «Hibana» Presentado por Crunchyroll\, llegando a aún más fanáticos en todo el mundo el próximo año. \nADO WORLD TOUR 2025 «Hibana» Presentado por Crunchyroll se está preparando para ser una de las giras mundiales más grandes jamás organizada por un artista japonés\, la cual será una fuerte continuación de su primera gira mundial con entradas agotadas de este año\, «Wish» Presentada por Crunchyroll\, comenzando en el icónico Saitama Super Arena de Tokio el próximo mes de abril\, ADO iluminará más de 30 ciudades en todo el mundo antes de cerrar en Honolulu\, Hawaii\, el próximo agosto. \n  \n 
URL:https://otakuvisualmex.com/evento/ado-world-tour-2025-hibana/
LOCATION:CDMX
CATEGORIES:Concierto
ATTACH;FMTTYPE=image/webp:https://otakuvisualmex.com/wp-content/uploads/2025/03/main_l_x2_EVT113403.webp
END:VEVENT
BEGIN:VEVENT
DTSTART;TZID=America/Mexico_City:20250822T190000
DTEND;TZID=America/Mexico_City:20250822T233000
DTSTAMP:20260421T080838
CREATED:20250619T065125Z
LAST-MODIFIED:20250619T065125Z
UID:15942-1755889200-1755905400@otakuvisualmex.com
SUMMARY:Mystical Fest 2025 – Festival Visual Kei en México
DESCRIPTION:El primer festival visual kei de Latinoamérica llega a Ciudad de México este 22 de agosto.\n\nMystical Fest 2025 es una experiencia inmersiva donde la música\, la teatralidad y la estética del Visual Kei japonés se encuentran con el fervor del público latino. \n \n\n \n\n\n 22 de agosto de 2025\n Ciudad de Mexico\n Line-up confirmado:\n・ Közi\n・ Hizaki & Kaya\n・ Schwarz Stein\n・ Mayohk\n \n\n\n Foro Veintiocho\, Ciudad de Mexico\, México – 22 de agosto\n \n Entradas disponibles en\n\nhttps://www.passline.com/eventos/mystical-fest-cdmx?fbclid=PAQ0xDSwK5sSpleHRuA2FlbQIxMQABpzdVgE0y96g14KbNsBxs5iEDozBXA8pB6aay2eOnRCS1HAMvpvhBqqkrB7KY_aem_QZ7XkDoEXgGLronlhmTznA  \n\nProduce\n\n@moonlight_producciones.scl\n\n\nColabora\n@royalstagemx
URL:https://otakuvisualmex.com/evento/mystical-fest-2025-festival-visual-kei-en-mexico/
LOCATION:CDMX
CATEGORIES:Concierto
ATTACH;FMTTYPE=image/jpeg:https://otakuvisualmex.com/wp-content/uploads/2025/06/506533657_1260905906035860_2397659232519356860_n.jpg
END:VEVENT
BEGIN:VEVENT
DTSTART;TZID=America/Mexico_City:20250823T190000
DTEND;TZID=America/Mexico_City:20250823T230000
DTSTAMP:20260421T080838
CREATED:20250313T004836Z
LAST-MODIFIED:20250313T004920Z
UID:15682-1755975600-1755990000@otakuvisualmex.com
SUMMARY:TAKERU en CDMX\, MEXICO
DESCRIPTION:🦋TAKERU\n\nEl vocalista Takeru y los guitarristas Masato y Yuji habían tocado previamente en una banda llamada Travel. Después de que Travel se disolvió\, unieron fuerzas con el bajista de Ameria Shouta para formar Sug en octubre de 2006. La banda firmó con PS Company\, un reconocido sello de gestión de otros íconos del Visual-kei\, y en agosto de 2007 lanzaron su primer sencillo. \nTakeru protagonizó la película «Aquarian Age»\, una adaptación de acción real de un juego de cartas que también tiene un anime. La película también contó con miembros de la banda Alice Nine. En febrero\, Takeru volvió a actuar en la película «Beat Rock ✩ Love»\, donde interpretó al cantante principal de la banda ficticia Love Diving. \nEl 31 de julio de 2017\, SuG anunció que haría una pausa indefinida y la última actuación de la banda tuvo lugar el 2 de septiembre de 2017 en Nippon Budokan. \nEn 2018\, Takeru comenzó una carrera en solitario bajo el nombre de Sleepyhead.
URL:https://otakuvisualmex.com/evento/takeru-en-cdmx-mexico/
LOCATION:Gato Calavera\, Xola 114\, Benito Juárez\, CDMX\, 03400\, México
CATEGORIES:Concierto,Visual Kei
ATTACH;FMTTYPE=image/avif:https://otakuvisualmex.com/wp-content/uploads/2025/03/https___cdn.evbuc_.com_images_958595303_1123016962423_1_original.avif
END:VEVENT
BEGIN:VEVENT
DTSTART;TZID=America/Mexico_City:20250829T200000
DTEND;TZID=America/Mexico_City:20250829T220000
DTSTAMP:20260421T080838
CREATED:20250328T060517Z
LAST-MODIFIED:20250328T061402Z
UID:15753-1756497600-1756504800@otakuvisualmex.com
SUMMARY:HYDE [INSIDE] LIVE 2025 WORLD TOUR EN CDMX
DESCRIPTION:Viernes 29 de Agosto Ciudad de México\, México @ Circo Volador – A la venta el Miércoles 26 de Marzo a las 10:00\, hora local\n\n\nTickets:\n\nMexico:\nhttps://www.eventrid.com.mx/eventos/atenea/hyde-en-cdmx\n\n\n\nHabrá boletos VIP disponibles que incluyen:\nBoleto de entrada general\nAcceso temprano al show\nAcceso temprano a la merch\nRegalo especial (sorpresa) de HYDE\n\n\n\nGeneral: $1\,000 MXN/$50 USD\nVIP: $3\,000 MXN/$150 USD\n* Las tarifas se añadirán al momento de pagar.
URL:https://otakuvisualmex.com/evento/hyde-inside-live-2025-world-tour-en-cdmx/
LOCATION:CDMX
CATEGORIES:Concierto,Visual Kei
ATTACH;FMTTYPE=image/jpeg:https://otakuvisualmex.com/wp-content/uploads/2025/03/486571790_1210283754299158_3401859311668979088_n.jpg
END:VEVENT
END:VCALENDAR