BEGIN:VCALENDAR
VERSION:2.0
PRODID:-//Otaku Visual Mex - ECPv6.15.20//NONSGML v1.0//EN
CALSCALE:GREGORIAN
METHOD:PUBLISH
X-ORIGINAL-URL:https://otakuvisualmex.com
X-WR-CALDESC:Eventos para Otaku Visual Mex
REFRESH-INTERVAL;VALUE=DURATION:PT1H
X-Robots-Tag:noindex
X-PUBLISHED-TTL:PT1H
BEGIN:VTIMEZONE
TZID:America/Mexico_City
BEGIN:STANDARD
TZOFFSETFROM:-0600
TZOFFSETTO:-0600
TZNAME:CST
DTSTART:20240101T000000
END:STANDARD
END:VTIMEZONE
BEGIN:VEVENT
DTSTART;TZID=America/Mexico_City:20251001T210000
DTEND;TZID=America/Mexico_City:20251001T230000
DTSTAMP:20260421T051748
CREATED:20250725T203008Z
LAST-MODIFIED:20250725T203008Z
UID:16201-1759352400-1759359600@otakuvisualmex.com
SUMMARY:Lamp en Mexico
DESCRIPTION:🎶 Lamp llega por primera vez a México con su gira “Future Behind Me” 🎶\nLa aclamada banda japonesa Lamp visitará por primera vez México como parte de su gira internacional Future Behind Me. Este esperado concierto representa una oportunidad única para disfrutar en vivo del elegante y nostálgico sonido que fusiona bossa nova\, jazz y pop\, característico de este talentoso trío. \n📍 La cita es el 1° de octubre en el Auditorio BB\, donde los fans podrán sumergirse en una atmósfera musical inigualable. \nCon más de 25 años de trayectoria\, Lamp ha pasado de ser una joya de culto en Japón a conquistar escenarios internacionales\, gracias a la autenticidad de su propuesta sonora. Su álbum For Lovers y la canción del mismo nombre marcaron un resurgimiento en su carrera\, convirtiéndose en tendencia en múltiples plataformas y celebrando su éxito con una edición en vinilo en su XXI aniversario. \nTras agotar entradas en ciudades como Nueva York y Seattle\, el fenómeno Lamp continúa expandiéndose\, y ahora pone rumbo a Latinoamérica\, comenzando su travesía en la Ciudad de México. \n\n\n\nEstilo del la banda.\nEl estilo de Lamp ha sido descrito como Shibuya-kei\, pop urbano\, y música de café\, pero también se los ha descrito como difíciles de ubicar en un género. La banda a menudo incorpora elementos de bossa nova\, jazz\, soul y funk en su música. Han citado la música brasileña\, The Beatles\, The Beach Boys y Simon & Garfunkel como influencias.\n \nFechas del tour:\n \n\n\n 01 de octubre – Auditorio BB\, Ciudad de México\n\n\n 05 de octubre – Cine Joia\, São Paulo\n\n\n 08 de octubre – C Art Media\, Buenos Aires\n\n\n 12 de octubre – Teatro Coliseo\, Santiago\n\n\n 14 de octubre – C.C. Barranco\, Lima\n\n \n\nPreventa: 30 de Julio  BOLETOS  \n 
URL:https://otakuvisualmex.com/evento/lamp-en-mexico/
LOCATION:CDMX
CATEGORIES:Concierto
ATTACH;FMTTYPE=image/jpeg:https://otakuvisualmex.com/wp-content/uploads/2025/07/LAMP_Preventa_-_1080x1080.jpg
END:VEVENT
END:VCALENDAR