BEGIN:VCALENDAR
VERSION:2.0
PRODID:-//Otaku Visual Mex - ECPv6.15.20//NONSGML v1.0//EN
CALSCALE:GREGORIAN
METHOD:PUBLISH
X-ORIGINAL-URL:https://otakuvisualmex.com
X-WR-CALDESC:Eventos para Otaku Visual Mex
REFRESH-INTERVAL;VALUE=DURATION:PT1H
X-Robots-Tag:noindex
X-PUBLISHED-TTL:PT1H
BEGIN:VTIMEZONE
TZID:America/Mexico_City
BEGIN:STANDARD
TZOFFSETFROM:-0600
TZOFFSETTO:-0600
TZNAME:CST
DTSTART:20250101T000000
END:STANDARD
END:VTIMEZONE
BEGIN:VEVENT
DTSTART;TZID=America/Mexico_City:20260210T080000
DTEND;TZID=America/Mexico_City:20260210T170000
DTSTAMP:20260419T082144
CREATED:20260211T003447Z
LAST-MODIFIED:20260211T003447Z
UID:16743-1770710400-1770742800@otakuvisualmex.com
SUMMARY:Dragon Ball Live Symphonic – Monterrey
DESCRIPTION:En el 2025 Dragon Ball se convirtió en la primer franquicia de Anime en llegar al prestigioso Auditorio Nacional en la Ciudad de México con el concierto “Dragon Ball – Live Symphonic”\, ahora en este 2026 el concierto sinfónico oficial de Dragon Ball llegará por partida doble a dos ciudades: Guadalajara el 30 de Agosto en el Auditorio Telmex y Monterrey el 5 de Septiembre en el Escenario GNP Seguros. \n“Dragon Ball – Live Symphonic” es una experiencia sinfónica\, visual y un espectáculo imperdible para los fanáticos de la serie y del anime en general ya que es un emotivo recorrido musical a través de las sagas que componen Dragon Ball y Dragon Ball Z. \n  \n  \n \n  \nTras el éxito histórico en el Auditorio Nacional\, el espectáculo sinfónico oficial llega por partida doble a Guadalajara y Monterrey con la Orquesta Solistas de América y las voces originales de Luis de Lille\, Marisa de Lille\, Aarón Montalvo y Luis Manuel Ávila. \n  \nDetalles del concierto:\nDragon Ball – Live Symphonic Monterrey \n\n\nLugar: Escenario GNP Seguros \n\n\nFecha: 5 de Septiembre \n\n\nBoletos a la venta: 16 de Marzo en Ticketmaster.com.mx \n\n\nRango de Precios: $500 mxn a $1\,700 mxn. Los precios expresados no incluyen cargos por servicio de la boletera.
URL:https://otakuvisualmex.com/evento/dragon-ball-live-symphonic-monterrey/
LOCATION:CDMX
CATEGORIES:Concierto
ATTACH;FMTTYPE=image/png:https://otakuvisualmex.com/wp-content/uploads/2026/02/DB_Insta_Post.png
END:VEVENT
BEGIN:VEVENT
DTSTART;TZID=America/Mexico_City:20260224T203000
DTEND;TZID=America/Mexico_City:20260224T230000
DTSTAMP:20260419T082144
CREATED:20251224T031611Z
LAST-MODIFIED:20251224T031611Z
UID:16571-1771965000-1771974000@otakuvisualmex.com
SUMMARY:Demon Slayer: Kimetsu no Yaiba en Concierto CDMX
DESCRIPTION:Los fans del anime están de fiesta. Demon Slayer: Kimetsu no Yaiba llegará a México con un espectacular concierto sinfónico\, una experiencia audiovisual que combina la proyección de escenas icónicas del anime en pantalla gigante con música interpretada en vivo por una orquesta. \nEste evento promete revivir algunos de los momentos más épicos de la serie\, acompañados por su poderosa banda sonora\, que ha sido clave en el impacto emocional de la obra creada por Koyoharu Gotoge. \n  \nUna experiencia sinfónica imperdible\nEl concierto presenta la música del arco Tanjiro Kamado: Unwavering Resolve Arc\, interpretada por una banda de 18 músicos en vivo\, mientras en el escenario se proyectan escenas inolvidables del anime en una pantalla de cine de gran formato. \nEs una oportunidad única para disfrutar de Demon Slayer desde otra perspectiva\, fusionando anime y música orquestal en un formato que ha conquistado escenarios alrededor del mundo. \n  \nFechas y sedes en México 🇲🇽\n📍 Ciudad de México\n🗓 Martes 24 de febrero de 2026\n🏛 Auditorio Nacional \n  \nBoletos e información\nLos boletos estarán disponibles a través de los canales oficiales de venta. Para más detalles sobre el evento\, visita el sitio oficial: \n🔗 demonslayerinconcert.com \n \nDemon Slayer y su impacto global\nDesde su estreno\, Kimetsu no Yaiba se ha consolidado como uno de los animes más populares y exitosos de los últimos años\, destacando por su animación\, historia y\, por supuesto\, su memorable música. \nEste concierto sinfónico es una celebración directa para los fans que han acompañado el viaje de Tanjiro\, Nezuko y los cazadores de demonios.
URL:https://otakuvisualmex.com/evento/demon-slayer-kimetsu-no-yaiba-en-concierto-cdmx/
LOCATION:Auditorio Nacional\, Av. P.º de la Reforma 50\, Polanco V Secc\, Miguel Hidalgo\, 11580 Ciudad de México\, CDMX\, CDMX\, CDMX\, 11580\, Mexico
CATEGORIES:Concierto
ATTACH;FMTTYPE=image/jpeg:https://otakuvisualmex.com/wp-content/uploads/2025/12/DemonSlayer-Concert-CDMX.jpg
ORGANIZER;CN="Ventix Espectaculos":MAILTO:redes@ventix.com
END:VEVENT
END:VCALENDAR