BEGIN:VCALENDAR
VERSION:2.0
PRODID:-//Otaku Visual Mex - ECPv6.15.20//NONSGML v1.0//EN
CALSCALE:GREGORIAN
METHOD:PUBLISH
X-ORIGINAL-URL:https://otakuvisualmex.com
X-WR-CALDESC:Eventos para Otaku Visual Mex
REFRESH-INTERVAL;VALUE=DURATION:PT1H
X-Robots-Tag:noindex
X-PUBLISHED-TTL:PT1H
BEGIN:VTIMEZONE
TZID:America/Mexico_City
BEGIN:STANDARD
TZOFFSETFROM:-0600
TZOFFSETTO:-0600
TZNAME:CST
DTSTART:20250101T000000
END:STANDARD
END:VTIMEZONE
BEGIN:VEVENT
DTSTART;TZID=America/Mexico_City:20260503T200000
DTEND;TZID=America/Mexico_City:20260503T230000
DTSTAMP:20260419T070214
CREATED:20260416T062236Z
LAST-MODIFIED:20260416T064004Z
UID:17007-1777838400-1777849200@otakuvisualmex.com
SUMMARY:RORSCHACH.INC en México 2026
DESCRIPTION:  \nLa banda Rorschach.inc\, reconocida por su intensidad sonora y su estética visual impactante\, regresa a Latinoamérica en 2026 para una gira inolvidable. Con una fusión de fuerza\, energía y una identidad única dentro de la escena musical alternativa japonesa\, el grupo promete brindar al público experiencias intensas y memorables en cada presentación. \n\nLugar: Zoombie Dinner \n  \n\n\nFormas de Pago: \n🅿️ PayPal: Puedes pagar en Reales Brasileños (R$) y el monto se convertirá automáticamente a Pesos Chilenos (MEX) directamente en tu estado de cuenta. \n💳 Tarjeta en $MEX  \n💸Transferencia bancaria \n👉 Evento de clasificación +14 \n🎟️ cupones de descuento solo funcionan con PayPal
URL:https://otakuvisualmex.com/evento/rorschach-inc-en-mexico/
LOCATION:Zoombie Dinner\, Calz. de Tlalpan 598\, Moderna\, Benito Juárez\, 03510 Ciudad de México\, CDMX\, CDMX\, 03510\, Mexico
CATEGORIES:Concierto,Visual Kei
ATTACH;FMTTYPE=image/jpeg:https://otakuvisualmex.com/wp-content/uploads/2026/04/670431354_1399419022183039_9115341675028896913_n.jpg
END:VEVENT
BEGIN:VEVENT
DTSTART;TZID=America/Mexico_City:20260528T200000
DTEND;TZID=America/Mexico_City:20260528T230000
DTSTAMP:20260419T070214
CREATED:20260416T065117Z
LAST-MODIFIED:20260416T065117Z
UID:17022-1779998400-1780009200@otakuvisualmex.com
SUMMARY:Deviloof en Mexico 2026
DESCRIPTION:Prepárate para una de las presentaciones más intensas y brutales de la escena japonesa actual. DEVILOOF\, referencia absoluta del visual kei extremo y del deathcore japonés\, aterriza en 2026 trayendo su sonido agresivo\, técnica impecable y una presencia escénica explosiva.\n \nDEVILOOF es una de las bandas más intensas y extremas del metal japonés actual\, combinando deathcore brutal con estética Visual Kei y consolidándose como uno de los principales nombres de la nueva generación del metal extremo japonés. \nCon éxitos como “Devil’s Proof”\, “Escape”\, “Ruined” y el reciente sencillo “INSHU (因習)”\, la banda celebra su décimo aniversario\, marcando una fase aún más consolidada. \n  \nFormas de Pago:\n 🅿️ PayPal: Puedes pagar en Reales Brasileños (R$) y el monto se convertirá automáticamente a Pesos Mexicanos (MXN) directamente en tu estado de cuenta. \n💳 Tarjeta en $MXN \n🏦💸Transferencia bancaria \n👉 Evento de clasificación indicativa para + 14 años\, con autorización. \n \n  \n 
URL:https://otakuvisualmex.com/evento/deviloof-en-mexico-2026/
LOCATION:Foro 1869\, Av. Insurgentes Centro 1869\, Guadalupe Inn\, Álvaro Obregón\, 01020 Ciudad de México\, CDMX\, CDMX\, 01020
CATEGORIES:Concierto,Visual Kei
ATTACH;FMTTYPE=image/jpeg:https://otakuvisualmex.com/wp-content/uploads/2026/04/DEVILOOF-e-uma-das-bandas-mais-intensas-e-extremas-do-metal-japones-atual-combinando-deathcore-.jpg
END:VEVENT
END:VCALENDAR