BEGIN:VCALENDAR
VERSION:2.0
PRODID:-//Otaku Visual Mex - ECPv6.15.20//NONSGML v1.0//EN
CALSCALE:GREGORIAN
METHOD:PUBLISH
X-ORIGINAL-URL:https://otakuvisualmex.com
X-WR-CALDESC:Eventos para Otaku Visual Mex
REFRESH-INTERVAL;VALUE=DURATION:PT1H
X-Robots-Tag:noindex
X-PUBLISHED-TTL:PT1H
BEGIN:VTIMEZONE
TZID:America/Mexico_City
BEGIN:STANDARD
TZOFFSETFROM:-0600
TZOFFSETTO:-0600
TZNAME:CST
DTSTART:20250101T000000
END:STANDARD
END:VTIMEZONE
BEGIN:VEVENT
DTSTART;TZID=America/Mexico_City:20260607T210000
DTEND;TZID=America/Mexico_City:20260607T230000
DTSTAMP:20260419T082131
CREATED:20260413T051734Z
LAST-MODIFIED:20260416T053411Z
UID:16999-1780866000-1780873200@otakuvisualmex.com
SUMMARY:TK From Ling Tosite Sigure en Mexico
DESCRIPTION:TK tendrá concierto en México en 2026\nEl artista japonés TK ofrecerá su primera gira por Norte América y dará dos conciertos en México. \nTōru Kitajima\, es uno de los cantantes japoneses más importantes de la ola alternativa. Tiene más de una década como solista y es reconocido por ser el vocalista de la banda Ling Tosite Sigure. \nAhora\, con la alza en los conciertos japoneses en México en los últimos años\, TK cruza el océano para dar su primer tour por el continente americano.  \n  \n \nEl guitarrista anunció que visitará varias ciudades de Estados Unidos\, una en Canadá y tendrá una única parada en Latinoamérica: la Ciudad de México. \nLos conciertos de TK en México están programados para el 6  Junio (agotado) y 7 de junio de 2026\, en el Foro Puebla. \nUn recinto pequeño pero que garantiza la cercanía con la audiencia. \n  \nLa boletera en México anunció que habrá paquetes VIP y venta general. Además compartió el mapa del evento\, que está dividido entre Pista (general de pie) y una parte alta al fondo del recinto denominada Balcón). \nCon los siguientes precios con cargos: \n\nPista: $1\,091.25\nBalcón: $1\,240\nPista: Boleto $880 + TK ULTIMATE SOUNDCHECK VIP PACKAGE ($3399) = $5\,306.00\nBoleto ($880) + TK SOUNDCHECK VIP PACKAGE ($2875 = ) $4\,656.25\n\nRecuerda que para comprar boletos sin cargos adicionales\, puedes acudir a la taquilla del Foro Puebla.
URL:https://otakuvisualmex.com/evento/tk-from-ling-tosite-sigure-en-mexico/
LOCATION:Foro Puebla\, Puebla 186\, Roma Nte.\, Cuauhtémoc\, 06700 Ciudad de México\, CDMX\, CDMX\, 06700\, Mexico
CATEGORIES:Concierto
ATTACH;FMTTYPE=image/jpeg:https://otakuvisualmex.com/wp-content/uploads/2026/04/648532670_1385620633598914_5085911627492432035_n.jpg
END:VEVENT
END:VCALENDAR