BEGIN:VCALENDAR
VERSION:2.0
PRODID:-//Otaku Visual Mex - ECPv6.15.20//NONSGML v1.0//EN
CALSCALE:GREGORIAN
METHOD:PUBLISH
X-WR-CALNAME:Otaku Visual Mex
X-ORIGINAL-URL:https://otakuvisualmex.com
X-WR-CALDESC:Eventos para Otaku Visual Mex
REFRESH-INTERVAL;VALUE=DURATION:PT1H
X-Robots-Tag:noindex
X-PUBLISHED-TTL:PT1H
BEGIN:VTIMEZONE
TZID:America/Mexico_City
BEGIN:STANDARD
TZOFFSETFROM:-0600
TZOFFSETTO:-0600
TZNAME:CST
DTSTART:20250101T000000
END:STANDARD
END:VTIMEZONE
BEGIN:VEVENT
DTSTART;TZID=America/Mexico_City:20260801T200000
DTEND;TZID=America/Mexico_City:20260801T230000
DTSTAMP:20260419T154252
CREATED:20260416T065855Z
LAST-MODIFIED:20260416T065855Z
UID:17028-1785614400-1785625200@otakuvisualmex.com
SUMMARY:TAKERU´S CLUB HOUSE in CDMX\, Mexico 2026
DESCRIPTION:La Ciudad de México se prepara para una noche verdaderamente especial.\n \n  \n  \nTakeru regresa a la capital mexicana por segunda vez\, reafirmando su conexión con el público local en un formato completamente diferente al de un gran escenario. Esta vez\, la propuesta es íntima\, cercana e intensa. Exactamente como debe ser un verdadero Club House. \nEl encuentro se llevará a cabo en (CONFIRMACION DE CAMBIO DE RECINTO)\, creando el ambiente perfecto para una experiencia más personal\, directa y llena de energía. \n \nNo es solo un show. \n Es una noche de conexión real. ✨ ¿Qué puedes esperar de esta edición especial? \n\n\nPresencia de Takeru en formato exclusivo \n\n\nDJ Masashi (Japón) marcando el ritmo de la noche \n\n\n+3 DJs invitados \n\n\nBanda de apertura \n\n\n \nFormas de Pago: \n🅿️ PayPal: Puedes pagar en Reales Brasileños (R$) y el monto se convertirá automáticamente a Pesos Mexicanos (MXN) directamente en tu estado de cuenta. \n💳 Tarjeta en $MXN \n👉 Evento de clasificación indicativa para +18 años.
URL:https://otakuvisualmex.com/evento/takerus-club-house-in-cdmx-mexico-2026/
LOCATION:CDMX
CATEGORIES:Concierto,Visual Kei
ATTACH;FMTTYPE=image/jpeg:https://otakuvisualmex.com/wp-content/uploads/2026/04/Pt-TAKERUs-CLUB-HOUSE-TOUR-2026-Apos-o-estrondoso-show-marcando-os-19-anos-de-Carreira-do-Take.jpg
END:VEVENT
BEGIN:VEVENT
DTSTART;TZID=America/Mexico_City:20260808T200000
DTEND;TZID=America/Mexico_City:20260808T230000
DTSTAMP:20260419T154252
CREATED:20260210T081339Z
LAST-MODIFIED:20260210T081339Z
UID:16726-1786219200-1786230000@otakuvisualmex.com
SUMMARY:Magic Knight Rayearth: Las Guerreras Mágicas
DESCRIPTION:  \nEstrenada en 1994\, Magic Knight Rayearth se convirtió rápidamente en una obra fundamental del anime\, destacando por su combinación de fantasía\, aventura\, personajes femeninos icónicos y una banda sonora inolvidable. Treinta años después\, la serie mantiene un lugar especial en la memoria colectiva de los fans\, consolidándose como un referente cultural del anime clásico. \nEl concierto del 30º aniversario está concebido como una experiencia premium y conmemorativa\, dirigida tanto a los seguidores que crecieron con la serie como a nuevas audiencias que han descubierto su legado a lo largo de los años. La producción promete una noche cargada de nostalgia\, emoción y excelencia musical\, celebrando la magia\, el destino y la música que definieron a Magic Knight Rayearth: Las Guerreras Mágicas. \n \nDetalles del concierto:\nMagic Knight Rayearth: Las Guerreras Mágicas\n30º Aniversario Concierto Sinfónico\n  \n\n\nLugar: Pepsi Center WTC – Ciudad de México \n\n\nFecha: 8 de Agosto. \n\n\nBoletos a la venta: 2 de Marzo en Ticketmaster.com.mx \n\n\nMás información sobre boletos\, paquetes especiales y horarios será anunciada en los próximos días a través de los canales oficiales. \nBoletos y experiencias:\n\n\nCephiro  VIP – M&G (Foto y Autógrafo con Naomi Tamura): $3\,000 mxn \n\n\nAutozam VIP $2\,500 mxn \n\n\nChizeta  $1\,500 mxn \n\n\nFahren $1\,000 mxn • PCD $1\,400 mxn \n\n\nLos precios expresados no incluyen cargos por servicio de la boletera.
URL:https://otakuvisualmex.com/evento/magic-knight-rayearth-las-guerreras-magicas/
LOCATION:Pepsi Center – WTC\, Dakota s/n\, Nápoles\, Benito Juárez\, 03810 Ciudad de México\, CDMX\, CDMX\, 03810\, Mexico
CATEGORIES:Concierto
ATTACH;FMTTYPE=image/jpeg:https://otakuvisualmex.com/wp-content/uploads/2026/02/INSTA-KVMKR-002.jpg
END:VEVENT
BEGIN:VEVENT
DTSTART;TZID=America/Mexico_City:20260830T200000
DTEND;TZID=America/Mexico_City:20260830T230000
DTSTAMP:20260419T154252
CREATED:20260211T003133Z
LAST-MODIFIED:20260211T003453Z
UID:16739-1788120000-1788130800@otakuvisualmex.com
SUMMARY:Dragon Ball Live Symphonic – Guadalajara
DESCRIPTION:En el 2025 Dragon Ball se convirtió en la primer franquicia de Anime en llegar al prestigioso Auditorio Nacional en la Ciudad de México con el concierto “Dragon Ball – Live Symphonic”\, ahora en este 2026 el concierto sinfónico oficial de Dragon Ball llegará por partida doble a dos ciudades: Guadalajara el 30 de Agosto en el Auditorio Telmex y Monterrey el 5 de Septiembre en el Escenario GNP Seguros. \n“Dragon Ball – Live Symphonic” es una experiencia sinfónica\, visual y un espectáculo imperdible para los fanáticos de la serie y del anime en general ya que es un emotivo recorrido musical a través de las sagas que componen Dragon Ball y Dragon Ball Z. \n  \n  \n \n  \nTras el éxito histórico en el Auditorio Nacional\, el espectáculo sinfónico oficial llega por partida doble a Guadalajara y Monterrey con la Orquesta Solistas de América y las voces originales de Luis de Lille\, Marisa de Lille\, Aarón Montalvo y Luis Manuel Ávila. \n  \n\n\nDetalles del concierto:\nDragon Ball – Live Symphonic Guadalajara \n\n\nLugar: Auditorio Telmex \n\n\nFecha: 30 de Agosto. 2026 \n\n\nBoletos a la venta: 16 de Marzo en Ticketmaster.com.mx \n\n\nRango de Precios: $350 mxn a $1\,500 mxn. Los precios expresados no incluyen cargos por servicio de la boletera.
URL:https://otakuvisualmex.com/evento/dragon-ball-live-symphonic-guadalajara/
LOCATION:Auditorio Telmex\, Av. Obreros de Cananea 747\, Industrial los Belenes\, 45157 Zapopan\, Jal.\, Guadalajara\, Jalisco\, 45157\, Mexico
CATEGORIES:Concierto
ATTACH;FMTTYPE=image/png:https://otakuvisualmex.com/wp-content/uploads/2026/02/DB_Insta_Post.png
END:VEVENT
END:VCALENDAR