BEGIN:VCALENDAR
VERSION:2.0
PRODID:-//Otaku Visual Mex - ECPv6.15.20//NONSGML v1.0//EN
CALSCALE:GREGORIAN
METHOD:PUBLISH
X-WR-CALNAME:Otaku Visual Mex
X-ORIGINAL-URL:https://otakuvisualmex.com
X-WR-CALDESC:Eventos para Otaku Visual Mex
REFRESH-INTERVAL;VALUE=DURATION:PT1H
X-Robots-Tag:noindex
X-PUBLISHED-TTL:PT1H
BEGIN:VTIMEZONE
TZID:America/Mexico_City
BEGIN:STANDARD
TZOFFSETFROM:-0600
TZOFFSETTO:-0600
TZNAME:CST
DTSTART:20250101T000000
END:STANDARD
END:VTIMEZONE
BEGIN:VEVENT
DTSTART;TZID=America/Mexico_City:20261102T200000
DTEND;TZID=America/Mexico_City:20261102T230000
DTSTAMP:20260419T195929
CREATED:20260416T063155Z
LAST-MODIFIED:20260416T063155Z
UID:17014-1793649600-1793660400@otakuvisualmex.com
SUMMARY:Glamscure en Mexico
DESCRIPTION:¡La oscuridad y el glamour del Visual Kei japonés llegan a Latinoamérica en pleno Halloween! Prepárate para una experiencia mágica y teatral con GLAMSCURE\, una banda que combina elegancia oscura\, melancolía y poder sonoro en presentaciones únicas.\nCon éxitos como “Blind Love”\, “Fallen Angel” y “Doll’s Requiem”\, el trío japonés promete convertir el escenario en un auténtico ritual de emociones y hechizos.Lugar: Foro 1869Dia: 02 de Noviembre 2026 – Ciudad de México\, México \n \n \nCapítulo V ◆ Night of Return\nDespués de la gran fiesta\, cuando las energías por fin se alinearon\, un estruendo profundo resonó en el último día del fenómeno. Fue entonces cuando el velo se quebró… y los muertos regresaron al mundo de los vivos. \nNuestros anfitriones\, que habían viajado a tierras lejanas en busca de la antigua construcción donde el Sol y la Luna cruzaban sus fuerzas\, realizaron allí el ritual que abrió las puertas entre los mundos. Y fue desde ese punto olvidado\, no desde el valle tocado por la aurora\, que los muertos emergieron. \nVivos y muertos se encontraron como viejos compañeros separados por el tiempo: amantes reconocieron sus miradas\, familias sintieron de nuevo el toque imposible\, y muchos intentaron revivir los deseos que habían dejado inconclusos en vida. \nDurante algunas horas\, dos mundos coexistieron. \nLa carne y el espíritu se entrelazaron.  \n  \n  \n🅿️ PayPal: Puedes pagar en Reales Brasileños (R$) y el monto se convertirá automáticamente a Pesos Mexicanos (MXN) directamente en tu estado de cuenta. \n💳 Tarjeta en $MXN \n👉 Evento de clasificación +14
URL:https://otakuvisualmex.com/evento/glamscure-en-mexico/
LOCATION:Foro 1869\, Av. Insurgentes Centro 1869\, Guadalupe Inn\, Álvaro Obregón\, 01020 Ciudad de México\, CDMX\, CDMX\, 01020
CATEGORIES:Concierto,Visual Kei
ATTACH;FMTTYPE=image/jpeg:https://otakuvisualmex.com/wp-content/uploads/2026/04/569175640_804349579255911_6156121133400737060_n.jpg
END:VEVENT
END:VCALENDAR