BEGIN:VCALENDAR
VERSION:2.0
PRODID:-//Otaku Visual Mex - ECPv6.15.20//NONSGML v1.0//EN
CALSCALE:GREGORIAN
METHOD:PUBLISH
X-WR-CALNAME:Otaku Visual Mex
X-ORIGINAL-URL:https://otakuvisualmex.com
X-WR-CALDESC:Eventos para Otaku Visual Mex
REFRESH-INTERVAL;VALUE=DURATION:PT1H
X-Robots-Tag:noindex
X-PUBLISHED-TTL:PT1H
BEGIN:VTIMEZONE
TZID:America/Mexico_City
BEGIN:STANDARD
TZOFFSETFROM:-0600
TZOFFSETTO:-0600
TZNAME:CST
DTSTART:20240101T000000
END:STANDARD
END:VTIMEZONE
BEGIN:VEVENT
DTSTART;TZID=America/Mexico_City:20250517T110000
DTEND;TZID=America/Mexico_City:20250518T203000
DTSTAMP:20260421T135447
CREATED:20250314T064549Z
LAST-MODIFIED:20250314T064849Z
UID:15709-1747479600-1747600200@otakuvisualmex.com
SUMMARY:Coda en la Yume Convention
DESCRIPTION: ¡Prepárate para una experiencia inolvidable!  Yume! se enorgullece de anunciar a nuestro invitado estelar: Kazusou Oda / CODA la voz detrás de los icónicos temas de JoJo’s Bizarre Adventure! ¡Por primera vez en México! ¿Qué hace a CODA especial?* Su poderosa interpretación ha marcado generaciones de fans.* Una carrera musical llena de talento\, pasión y conexión con la épica franquicia de JoJo’s☆Yume! – Multiverso / Expo ReformaCDMX 17 y 18 de mayo 2025 Despierta la magia de tus sueños.coordinacion@yume.mx
URL:https://otakuvisualmex.com/evento/coda-en-la-yume-convention/
LOCATION:CDMX
CATEGORIES:Concierto,Convencion
ATTACH;FMTTYPE=image/jpeg:https://otakuvisualmex.com/wp-content/uploads/2025/03/475895633_17927475525007030_4901182918679203436_n.jpg
END:VEVENT
END:VCALENDAR