BEGIN:VCALENDAR
VERSION:2.0
PRODID:-//Otaku Visual Mex - ECPv6.15.20//NONSGML v1.0//EN
CALSCALE:GREGORIAN
METHOD:PUBLISH
X-ORIGINAL-URL:https://otakuvisualmex.com
X-WR-CALDESC:Eventos para Otaku Visual Mex
REFRESH-INTERVAL;VALUE=DURATION:PT1H
X-Robots-Tag:noindex
X-PUBLISHED-TTL:PT1H
BEGIN:VTIMEZONE
TZID:America/Mexico_City
BEGIN:STANDARD
TZOFFSETFROM:-0600
TZOFFSETTO:-0600
TZNAME:CST
DTSTART:20240101T000000
END:STANDARD
END:VTIMEZONE
BEGIN:VEVENT
DTSTART;TZID=America/Mexico_City:20250528T190000
DTEND;TZID=America/Mexico_City:20250528T230000
DTSTAMP:20260421T122837
CREATED:20250313T010132Z
LAST-MODIFIED:20250313T010428Z
UID:15685-1748458800-1748473200@otakuvisualmex.com
SUMMARY:Kamijo en concierto CDMX
DESCRIPTION:🌹 « THE AMERICAS TOUR 2025 -MASTERPIECE- » 🌹comienza este sábado (22 de febrero) a las 16:00 horas CET. \nHORAS LOCALES EN CADA PAIS: \nLos Ángeles\, USA: 7 AM\nMéxico\, CDMX: 9 AM\nNueva York\, USA: 10 AM\nSantiago\, Chile: 12 PM\nSao Paulo\, Brasil: 12 PM\nParís\, Francia: 4 PM\nTokio\, Japón: 12 AM \n¡Por favor tengan en cuenta que se añadirán mas 𝐕𝐈𝐏 𝐭𝐢𝐜𝐤𝐞𝐭𝐬 para cada ciudad! \n  \n🎟️ TIPOS DE BOLETOS \n✥ VIP incluye 1ª Entrada prioritaria + apretón de manos con KAMIJO + Foto con KAMIJO + Póster firmado.\n✥ Premium incluye 2ª entrada prioritaria + apretón de manos con KAMIJO + Póster firmado\n✥ Entrada general
URL:https://otakuvisualmex.com/evento/kamijo-en-concierto-cdmx/
LOCATION:Hendrix Circus Bar\, Av. Cuitláhuac 3368\, Jardín Azpeitia\, Azcapotzalco\, 02530 Ciudad de México\, CDMX\, CDMX\, 02530\, Mexico
CATEGORIES:Concierto,Visual Kei
ATTACH;FMTTYPE=image/jpeg:https://otakuvisualmex.com/wp-content/uploads/2025/03/480636055_1182488706576765_5669212591272778576_n.jpg
END:VEVENT
END:VCALENDAR