BEGIN:VCALENDAR
VERSION:2.0
PRODID:-//Otaku Visual Mex - ECPv6.15.20//NONSGML v1.0//EN
CALSCALE:GREGORIAN
METHOD:PUBLISH
X-ORIGINAL-URL:https://otakuvisualmex.com
X-WR-CALDESC:Eventos para Otaku Visual Mex
REFRESH-INTERVAL;VALUE=DURATION:PT1H
X-Robots-Tag:noindex
X-PUBLISHED-TTL:PT1H
BEGIN:VTIMEZONE
TZID:America/Mexico_City
BEGIN:STANDARD
TZOFFSETFROM:-0600
TZOFFSETTO:-0600
TZNAME:CST
DTSTART:20240101T000000
END:STANDARD
END:VTIMEZONE
BEGIN:VEVENT
DTSTART;TZID=America/Mexico_City:20250708T080000
DTEND;TZID=America/Mexico_City:20250708T170000
DTSTAMP:20260421T105911
CREATED:20250313T012515Z
LAST-MODIFIED:20250704T043502Z
UID:15698-1751961600-1751994000@otakuvisualmex.com
SUMMARY:Scandal “Love\, spark\, joy!” 2025
DESCRIPTION:¡SCANDAL\, la popular banda de rock japonesa regresa a México para un concierto espectacular! \nLa espera ha terminado para los fans mexicanos de la icónica banda japonesa SCANDAL. La agrupación llegará a la capital mexicana como parte de su gira internacional “LOVE\, SPARK\, JOY! SCANDAL TOUR 2025” y ofrecerá un espectáculo único el próximo 8 de julio en La Maraka\, centro de Espectáculos. \nSCANDAL\, conformada por Haruna\, Mami\, Tomomi y Rina\, es una de las bandas de rock más influyentes de Japón\, reconocida por su energía en el escenario y su inconfundible estilo musical que ha conquistado a seguidores en todo el mundo. Con una trayectoria de más de 19 años\, la banda ha lanzado múltiples éxitos y ha participado en los festivales más importantes de Asia\, Europa y América. \nEste concierto en la Ciudad de México promete ser una experiencia inolvidable para sus seguidores\, con un repertorio que incluirá sus mayores éxitos y temas de su más reciente producción discográfica. Será una noche cargada de emociones\, donde la banda y el público podrán vivir juntos la pasión por la música. \nLos boletos para el concierto estarán disponibles a partir del 14 de Marzo a las 10:00 am (CST) a través de Ticketmaster.com.mx. Se recomienda a los fans adquirir sus entradas con anticipación. \n“LOVE\, SPARK\, JOY! SCANDAL TOUR 2025” \n\n\nLos Angeles\, California\, 25 de Junio \n\n\nNueva York\, Nueva York\, 27 de Junio \n\n\nChicago\, Illinois\, 30 de Junio \n\n\nDallas\, Texas\, 2 de Julio \n\n\nCiudad de México\, México\, 8 de Julio. \n\n\nVENTA DE BOLETOS en ticketmaster\nVenta General: 14 de Marzo a las 10:00 am a través de Ticketmaster.com.mx \nTipos de boletos\n\n\nZona VIP (Zona preferente frente al escenario\, fotografía grupal (5 pax)\, postal autografiada y entrada anticipada) \n\n\nZona General (De pie) \n\n\nZona Preferente (Segundo Piso\, con asiento) \n\n\nVista Parcial (Segundo Piso\, con asiento) \n\n\nRango de precios:\nDesde $900 MXN hasta $3\,000 MX más cargos por servicio. \nEvento para mayores de 18 años. \n  \n \n 
URL:https://otakuvisualmex.com/evento/scandal-love-spark-joy-2025/
LOCATION:CDMX
CATEGORIES:Concierto
ATTACH;FMTTYPE=image/jpeg:https://otakuvisualmex.com/wp-content/uploads/2025/03/481172967_642583894794324_2979345310222283914_n.jpg
END:VEVENT
END:VCALENDAR