BEGIN:VCALENDAR
VERSION:2.0
PRODID:-//Otaku Visual Mex - ECPv6.15.20//NONSGML v1.0//EN
CALSCALE:GREGORIAN
METHOD:PUBLISH
X-WR-CALNAME:Otaku Visual Mex
X-ORIGINAL-URL:https://otakuvisualmex.com
X-WR-CALDESC:Eventos para Otaku Visual Mex
REFRESH-INTERVAL;VALUE=DURATION:PT1H
X-Robots-Tag:noindex
X-PUBLISHED-TTL:PT1H
BEGIN:VTIMEZONE
TZID:America/Mexico_City
BEGIN:STANDARD
TZOFFSETFROM:-0600
TZOFFSETTO:-0600
TZNAME:CST
DTSTART:20250101T000000
END:STANDARD
END:VTIMEZONE
BEGIN:VEVENT
DTSTART;TZID=America/Mexico_City:20260307T170000
DTEND;TZID=America/Mexico_City:20260307T210000
DTSTAMP:20260419T082130
CREATED:20250901T075312Z
LAST-MODIFIED:20250901T075312Z
UID:16341-1772902800-1772917200@otakuvisualmex.com
SUMMARY:Miku ✰ Nyappy Lights en Mexico
DESCRIPTION:¡MIKU\, vocalista de la banda AnCafe\, regresa a América Latina con una nueva y emocionante gira!\nDos años después de su última visita\, Miku vuelve con un formato completamente nuevo: Concierto Candlelight. En una atmósfera íntima\, presentará un repertorio especialmente seleccionado para esta experiencia única\, acompañado por músicos cuidadosamente elegidos. \nPrepárate para revivir grandes momentos de la carrera de Miku como nunca antes — en teatros acogedores y con asientos limitados\, creando una conexión especial entre el artista y el público. \nUna nueva forma de sentir la música. Te espera una noche inolvidable. \n¡Una noche íntima e inolvidable!\nMIKU (ex-An Café) presenta un concierto especial a la luz de las velas\, en un ambiente mágico y emocionante. \nVive de cerca la voz que marcó generaciones\, ahora en un espectáculo único\, delicado y lleno de emoción. \n \n  \n\nLugar: TEATRO ISABELA CORONA\n445 Eje Central Lázaro Cárdenas Ciudad de México\, CMX 06900 \n350 asientos disponibles \n \nTICKET GENERAL: MXN1400 \n*Los asientos se elegirán por orden de llegada* \n  \n[ 100 disponibles ] MEET & GREET: MXN800  \nincluye: Photo con el artista por nuestro fotografo + Autografo + Poster exclusivo + entrada anticipada para eligir el asiento. \nVentas: Eventbrite | Paypal \n 
URL:https://otakuvisualmex.com/evento/miku-%e2%9c%b0-nyappy-lights-en-mexico/
LOCATION:CDMX
CATEGORIES:Concierto,Visual Kei
ATTACH;FMTTYPE=image/jpeg:https://otakuvisualmex.com/wp-content/uploads/2025/09/Link-na-Bioswww.rit_.agency✨-MIKU-Candlelight-Show-✨Uma-noite-intimista-e-inesquecivelMIKU-ex-.jpg
END:VEVENT
END:VCALENDAR