BEGIN:VCALENDAR
VERSION:2.0
PRODID:-//Otaku Visual Mex - ECPv6.15.20//NONSGML v1.0//EN
CALSCALE:GREGORIAN
METHOD:PUBLISH
X-WR-CALNAME:Otaku Visual Mex
X-ORIGINAL-URL:https://otakuvisualmex.com
X-WR-CALDESC:Eventos para Otaku Visual Mex
REFRESH-INTERVAL;VALUE=DURATION:PT1H
X-Robots-Tag:noindex
X-PUBLISHED-TTL:PT1H
BEGIN:VTIMEZONE
TZID:America/Mexico_City
BEGIN:STANDARD
TZOFFSETFROM:-0600
TZOFFSETTO:-0600
TZNAME:CST
DTSTART:20250101T000000
END:STANDARD
END:VTIMEZONE
BEGIN:VEVENT
DTSTART;TZID=America/Mexico_City:20260707T210000
DTEND;TZID=America/Mexico_City:20260707T230000
DTSTAMP:20260419T122642
CREATED:20260304T201158Z
LAST-MODIFIED:20260304T201158Z
UID:16823-1783458000-1783465200@otakuvisualmex.com
SUMMARY:HANABIE en Guadalajara
DESCRIPTION:Luego de una explosiva presentación en KNOTFEST México 2025\, el cuarteto japonés está de vuelta para darnos un show completo\, como parte de una gira mundial para apoyar su más reciente lanzamiento\, HOT TOPIC (EP).\n \nLlévate una parte de Shibuya contigo\, Hanabie. en México\, venta de boletos ya a la venta.\n \n\nAsí es\, prepárate para recibir a Yukina (voz)\, Matsuri (guitarra/voz)\, Hettsu (bajo) y Chika (batería) con una de las presentaciones más explosivas del metal japonés\, con esa mezcla única de nü metal\, metalcore\, hardcore punk\, electro y j-pop. \nSi te perdiste su anterior presentación o te quedaste con ganas de un show completo\, esta es tu oportunidad\, ¡asegura tu lugar! \n \n\n\n07 de julio – Teatro Estudio Cavaret\, Guadalajara\n\nEntradas por Boletomóvil.\n \n\nSé parte de un show lleno de energía\, en el que no pararemos de cantar\, bailar\, moshear y headbanguear\, con canciones tan icónicas como “TOUSOU”\, “Osaki ni Shitsurei Shimasu.” y “Reiwa Matching-sedai”. \nNo solo eso\, también podrás escuchar su más reciente EP\, HOT TOPIC\, en vivo\, con las nuevas favoritas “ICONIC”\, “Spicy Queen” y “GIRL’S TALK”. \nLlévate una parte de Shibuya contigo\, Hanabie. en México\, venta de boletos a partir del 3 de marzo\, presentado por MusicVibe.
URL:https://otakuvisualmex.com/evento/hanabie-en-guadalajara/
LOCATION:Teatro Estudio Cavaret\, Ave. Parres Arias y Periferico Nucleo Calle 2\, Industrial los Belenes\, 45157 Zapopan\, Jal.\, Zapopan\, Guadalajara\, Jalisco\, 45157\, Mexico
CATEGORIES:Concierto
ATTACH;FMTTYPE=image/jpeg:https://otakuvisualmex.com/wp-content/uploads/2026/03/Hanabie_MX.jpeg
ORGANIZER;CN="Music Vibe":MAILTO:redes@musicvibe.mx
END:VEVENT
END:VCALENDAR