BEGIN:VCALENDAR
VERSION:2.0
PRODID:-//Otaku Visual Mex - ECPv6.15.20//NONSGML v1.0//EN
CALSCALE:GREGORIAN
METHOD:PUBLISH
X-ORIGINAL-URL:https://otakuvisualmex.com
X-WR-CALDESC:Eventos para Otaku Visual Mex
REFRESH-INTERVAL;VALUE=DURATION:PT1H
X-Robots-Tag:noindex
X-PUBLISHED-TTL:PT1H
BEGIN:VTIMEZONE
TZID:America/Mexico_City
BEGIN:STANDARD
TZOFFSETFROM:-0600
TZOFFSETTO:-0600
TZNAME:CST
DTSTART:20250101T000000
END:STANDARD
END:VTIMEZONE
BEGIN:VEVENT
DTSTART;TZID=America/Mexico_City:20260808T200000
DTEND;TZID=America/Mexico_City:20260808T230000
DTSTAMP:20260419T170831
CREATED:20260210T081339Z
LAST-MODIFIED:20260210T081339Z
UID:16726-1786219200-1786230000@otakuvisualmex.com
SUMMARY:Magic Knight Rayearth: Las Guerreras Mágicas
DESCRIPTION:  \nEstrenada en 1994\, Magic Knight Rayearth se convirtió rápidamente en una obra fundamental del anime\, destacando por su combinación de fantasía\, aventura\, personajes femeninos icónicos y una banda sonora inolvidable. Treinta años después\, la serie mantiene un lugar especial en la memoria colectiva de los fans\, consolidándose como un referente cultural del anime clásico. \nEl concierto del 30º aniversario está concebido como una experiencia premium y conmemorativa\, dirigida tanto a los seguidores que crecieron con la serie como a nuevas audiencias que han descubierto su legado a lo largo de los años. La producción promete una noche cargada de nostalgia\, emoción y excelencia musical\, celebrando la magia\, el destino y la música que definieron a Magic Knight Rayearth: Las Guerreras Mágicas. \n \nDetalles del concierto:\nMagic Knight Rayearth: Las Guerreras Mágicas\n30º Aniversario Concierto Sinfónico\n  \n\n\nLugar: Pepsi Center WTC – Ciudad de México \n\n\nFecha: 8 de Agosto. \n\n\nBoletos a la venta: 2 de Marzo en Ticketmaster.com.mx \n\n\nMás información sobre boletos\, paquetes especiales y horarios será anunciada en los próximos días a través de los canales oficiales. \nBoletos y experiencias:\n\n\nCephiro  VIP – M&G (Foto y Autógrafo con Naomi Tamura): $3\,000 mxn \n\n\nAutozam VIP $2\,500 mxn \n\n\nChizeta  $1\,500 mxn \n\n\nFahren $1\,000 mxn • PCD $1\,400 mxn \n\n\nLos precios expresados no incluyen cargos por servicio de la boletera.
URL:https://otakuvisualmex.com/evento/magic-knight-rayearth-las-guerreras-magicas/
LOCATION:Pepsi Center – WTC\, Dakota s/n\, Nápoles\, Benito Juárez\, 03810 Ciudad de México\, CDMX\, CDMX\, 03810\, Mexico
CATEGORIES:Concierto
ATTACH;FMTTYPE=image/jpeg:https://otakuvisualmex.com/wp-content/uploads/2026/02/INSTA-KVMKR-002.jpg
END:VEVENT
END:VCALENDAR