BEGIN:VCALENDAR
VERSION:2.0
PRODID:-//Otaku Visual Mex - ECPv6.15.20//NONSGML v1.0//EN
CALSCALE:GREGORIAN
METHOD:PUBLISH
X-ORIGINAL-URL:https://otakuvisualmex.com
X-WR-CALDESC:Eventos para Otaku Visual Mex
REFRESH-INTERVAL;VALUE=DURATION:PT1H
X-Robots-Tag:noindex
X-PUBLISHED-TTL:PT1H
BEGIN:VTIMEZONE
TZID:America/Mexico_City
BEGIN:STANDARD
TZOFFSETFROM:-0600
TZOFFSETTO:-0600
TZNAME:CST
DTSTART:20240101T000000
END:STANDARD
END:VTIMEZONE
BEGIN:VEVENT
DTSTART;TZID=America/Mexico_City:20250830T170000
DTEND;TZID=America/Mexico_City:20250830T200000
DTSTAMP:20260422T032632
CREATED:20250808T193324Z
LAST-MODIFIED:20250808T193324Z
UID:16255-1756573200-1756584000@otakuvisualmex.com
SUMMARY:Yas Nomura Master Class
DESCRIPTION:🎸 ¡Desde Japón a México: Yasutaka Nomura en vivo! 🇯🇵🔥 \n  \nPrepárate para una noche inolvidable junto al virtuoso Yasutaka Nomura\, guitarrista oficial del icónico artista japonés HYDE\, quien ha dejado su huella en el mundo del anime interpretando temas para dos de las series más grandes de todos los tiempos:\n⚔️ Attack on Titan (tema “Red Swan”)\n🌸 Demon Slayer (tema “Mugen”) \n  \nNomura no solo es un maestro del shred\, también es una fuerza creativa detrás del sonido que ha emocionado a millones en todo el mundo. ¡Y ahora lo tendrás frente a ti\, en un show íntimo y explosivo que fusiona técnica\, energía y emoción japonesa! \nBOLETOS: https://www.passline.com/eventos/yasutaka-nomura-master-class-publico \n¡No dejes pasar la oportunidad de ver de cerca al guitarrista de una leyenda viva del rock japonés! \n 
URL:https://otakuvisualmex.com/evento/yas-nomura-master-class/
CATEGORIES:Evento
ATTACH;FMTTYPE=image/jpeg:https://otakuvisualmex.com/wp-content/uploads/2025/08/525018989_1340599074738579_3079788725424950544_n.jpg
END:VEVENT
END:VCALENDAR