BEGIN:VCALENDAR
VERSION:2.0
PRODID:-//Otaku Visual Mex - ECPv6.15.20//NONSGML v1.0//EN
CALSCALE:GREGORIAN
METHOD:PUBLISH
X-WR-CALNAME:Otaku Visual Mex
X-ORIGINAL-URL:https://otakuvisualmex.com
X-WR-CALDESC:Eventos para Otaku Visual Mex
REFRESH-INTERVAL;VALUE=DURATION:PT1H
X-Robots-Tag:noindex
X-PUBLISHED-TTL:PT1H
BEGIN:VTIMEZONE
TZID:America/Mexico_City
BEGIN:STANDARD
TZOFFSETFROM:-0600
TZOFFSETTO:-0600
TZNAME:CST
DTSTART:20230101T000000
END:STANDARD
END:VTIMEZONE
BEGIN:VEVENT
DTSTART;TZID=America/Mexico_City:20240525T190000
DTEND;TZID=America/Mexico_City:20240525T220000
DTSTAMP:20260425T075218
CREATED:20240510T062559Z
LAST-MODIFIED:20240510T063433Z
UID:15456-1716663600-1716674400@otakuvisualmex.com
SUMMARY:DEVILOOF en CDMX
DESCRIPTION:Deviloof es una banda de visual kei que incorpora características del death metal y otras formas de metal extremo. Formado el 12 de diciembre de 2015 por ex integrantes de otro grupo llamado All Must Die\, en la ciudad de Osaka\, Japón.\nEl grupo ya contaba con varias formaciones\, pero la actual está compuesta\nVo. Keisuke | Ba. Daiki | Dr. Kanta | Gt. Aisaku | Gt. Ray\nLa banda tiene un estilo visual a veces descrito como «llamativo y súper agresivo»\, en el que se autodenominaron en una entrevista como «la banda más violenta y extrema del Visual Kei»\, lo que atrae la atención no solo de Japón\, sino de todo el mundo. mundo. todo el mundo.
URL:https://otakuvisualmex.com/evento/deviloof-en-cdmx/
LOCATION:Gato Calavera\, Xola 114\, Benito Juárez\, CDMX\, 03400\, México
CATEGORIES:Concierto,Visual Kei
ATTACH;FMTTYPE=image/jpeg:https://otakuvisualmex.com/wp-content/uploads/2024/05/384103574_262713083419566_6943960252915804673_n.jpg
END:VEVENT
END:VCALENDAR