BEGIN:VCALENDAR
VERSION:2.0
PRODID:-//Otaku Visual Mex - ECPv6.15.20//NONSGML v1.0//EN
CALSCALE:GREGORIAN
METHOD:PUBLISH
X-ORIGINAL-URL:https://otakuvisualmex.com
X-WR-CALDESC:Eventos para Otaku Visual Mex
REFRESH-INTERVAL;VALUE=DURATION:PT1H
X-Robots-Tag:noindex
X-PUBLISHED-TTL:PT1H
BEGIN:VTIMEZONE
TZID:America/Mexico_City
BEGIN:STANDARD
TZOFFSETFROM:-0600
TZOFFSETTO:-0600
TZNAME:CST
DTSTART:20250101T000000
END:STANDARD
END:VTIMEZONE
BEGIN:VEVENT
DTSTART;TZID=America/Mexico_City:20260316T180000
DTEND;TZID=America/Mexico_City:20260316T230000
DTSTAMP:20260419T094035
CREATED:20251028T152314Z
LAST-MODIFIED:20251028T152314Z
UID:16455-1773684000-1773702000@otakuvisualmex.com
SUMMARY:SHAZNA LATIN AMERICA TOUR 2026 Mexico
DESCRIPTION:SHAZNA – GIRA POR AMÉRICA LATINA 2026\nSHAZNA\, una de las bandas más icónicas del Visual Kei old school\, llega por primera vez a Latinoamérica en un tour histórico. \nTras cerrar en Japón su gira de 30 años de carrera\, IZAM y compañía se preparan para conquistar nuevos escenarios y cumplir el sueño de miles de fans que esperaron décadas este momento. \n🎶 Himnos como “Melty Love”\, “September Love” o “Topaz” no solo marcaron una época\, sino que siguen siendo el puente entre generaciones de fanáticos: desde quienes llevan más de tres décadas viviendo el Visual Kei hasta quienes recién comienzan a descubrir este universo musical. \n💎 Ver a SHAZNA en vivo\, fuera de Japón\, es un acontecimiento único e irrepetible\, un verdadero regalo para la historia del J-Music y del Visual Kei en nuestro continente. \n📍 Fechas confirmadas: \nMéxico – 16 de marzo 2026\n Brasil – 19 de marzo 2026\n Chile – 21 de marzo 2026 \nPrecios:Vip: $2\,000General: $1\,000 \n🎟 Entradas disponibles: https://www.passline.com/eventos/shazna-latin-america-tour-2026-mexico?srsltid=AfmBOoqNC1cm5zby8GJX-O2exYRx04nBxpi73deKcTbgCHnRwiI1KK-s \n  \nBoletos fisicos:\n\nhttps://www.facebook.com/harajuku.mex \nMientras tanto\, ¡vayan llenando de amor y mensajes a IZAM\, NIY y AOI en sus redes sociales! 💖 \nPorque esta será una experiencia que quedará grabada en la
URL:https://otakuvisualmex.com/evento/shazna-latin-america-tour-2026-mexico/
LOCATION:CDMX
CATEGORIES:Concierto,Visual Kei
ATTACH;FMTTYPE=image/jpeg:https://otakuvisualmex.com/wp-content/uploads/2025/10/514361896_1366602022138284_6862094344256246109_n.jpg
END:VEVENT
END:VCALENDAR