BEGIN:VCALENDAR
VERSION:2.0
PRODID:-//Otaku Visual Mex - ECPv6.15.20//NONSGML v1.0//EN
CALSCALE:GREGORIAN
METHOD:PUBLISH
X-WR-CALNAME:Otaku Visual Mex
X-ORIGINAL-URL:https://otakuvisualmex.com
X-WR-CALDESC:Eventos para Otaku Visual Mex
REFRESH-INTERVAL;VALUE=DURATION:PT1H
X-Robots-Tag:noindex
X-PUBLISHED-TTL:PT1H
BEGIN:VTIMEZONE
TZID:America/Mexico_City
BEGIN:STANDARD
TZOFFSETFROM:-0600
TZOFFSETTO:-0600
TZNAME:CST
DTSTART:20250101T000000
END:STANDARD
END:VTIMEZONE
BEGIN:VEVENT
DTSTART;TZID=America/Mexico_City:20260916T200000
DTEND;TZID=America/Mexico_City:20260916T230000
DTSTAMP:20260419T182916
CREATED:20260416T070412Z
LAST-MODIFIED:20260416T070518Z
UID:17034-1789588800-1789599600@otakuvisualmex.com
SUMMARY:Nocturnal Bloodlust en Mexico
DESCRIPTION:¡PREPÁRENSE PARA LA DESTRUCCIÓN!\n \n \n¡El peso de Nocturnal Bloodlust está llegando! Por primera vez en su gira mundial\, la banda que redefinió el metal japonés hará temblar el suelo. \nSi te gustan los breakdowns insanos\, los riffs técnicos y una puesta en escena agresiva\, este es EL SHOW del año. \n  \n Formas de Pago: \n🅿️ PayPal: Puedes pagar en Reales Brasileños (R$) y el monto se convertirá \n 
URL:https://otakuvisualmex.com/evento/nocturnal-bloodlust-en-mexico/
LOCATION:Foro 1869\, Av. Insurgentes Centro 1869\, Guadalupe Inn\, Álvaro Obregón\, 01020 Ciudad de México\, CDMX\, CDMX\, 01020
CATEGORIES:Concierto,Visual Kei
ATTACH;FMTTYPE=image/jpeg:https://otakuvisualmex.com/wp-content/uploads/2026/04/NOCTURNAL-BLOODLUST-2026CONFIRMADO■-12-09-2026-BRASIL■-13-09-2026-CHILE■-16-09-2026-MEXICO■-19.jpg
END:VEVENT
END:VCALENDAR