BEGIN:VCALENDAR
VERSION:2.0
PRODID:-//Otaku Visual Mex - ECPv6.15.20//NONSGML v1.0//EN
CALSCALE:GREGORIAN
METHOD:PUBLISH
X-WR-CALNAME:Otaku Visual Mex
X-ORIGINAL-URL:https://otakuvisualmex.com
X-WR-CALDESC:Eventos para Otaku Visual Mex
REFRESH-INTERVAL;VALUE=DURATION:PT1H
X-Robots-Tag:noindex
X-PUBLISHED-TTL:PT1H
BEGIN:VTIMEZONE
TZID:America/Mexico_City
BEGIN:STANDARD
TZOFFSETFROM:-0600
TZOFFSETTO:-0600
TZNAME:CST
DTSTART:20250101T000000
END:STANDARD
END:VTIMEZONE
BEGIN:VEVENT
DTSTART;TZID=America/Mexico_City:20261018T200000
DTEND;TZID=America/Mexico_City:20261018T230000
DTSTAMP:20260419T125132
CREATED:20260416T071025Z
LAST-MODIFIED:20260416T071119Z
UID:17040-1792353600-1792364400@otakuvisualmex.com
SUMMARY:Fukuro en Mexico 2026
DESCRIPTION:FUKURO es una de las bandas más intensas de la nueva generación del Visual Kei japonés.\n  \n \n  \nCon un sonido que transita entre el rock alternativo\, el jazz y la expresión emocional cruda\, Fukuro transforma sentimientos humanos profundos en música\, imagen y performance.\nSus shows no son solo presentaciones en vivo\, sino experiencias densas\, teatrales y viscerales.\nEn octubre de 2026\, Fukuro cruza el océano y llega a América Latina con una gira especial \n  \nFormas de Pago: \n🅿️ PayPal: Puedes pagar en Reales Brasileños (R$) y el monto se convertirá automáticamente a Pesos Mexicanos (MXN) directamente en tu estado de cuenta. \n💳 Tarjeta en $MXN \n🏦💸Transferencia bancaria \n👉 Evento de clasificación indicativa para + 14 años\, con autorización.
URL:https://otakuvisualmex.com/evento/fukuro-en-mexico-2026/
LOCATION:Foro 1869\, Av. Insurgentes Centro 1869\, Guadalupe Inn\, Álvaro Obregón\, 01020 Ciudad de México\, CDMX\, CDMX\, 01020
CATEGORIES:Concierto,Visual Kei
ATTACH;FMTTYPE=image/jpeg:https://otakuvisualmex.com/wp-content/uploads/2026/04/█-FUKURO-e-uma-das-bandas-mais-intensas-da-nova-geracao-do-Visual-Kei-japones.Com-uma-sonoridade.jpg
END:VEVENT
END:VCALENDAR